BEGIN:VCALENDAR
VERSION:2.0
PRODID:-//eventon.com NONSGML v1.0//EN
BEGIN:VEVENT
UID:69eb8861a3ad6
DTSTAMP:20260425T001233
DTSTART:20161027T160000Z
DTEND:20161027T173000Z
LOCATION:Golden Blue Hall\,  2F\,  KNN Tower\,  Centum City\,  Busan 
SUMMARY:ECCK Busan Information Session ‘Anti-Graft Act’
DESCRIPTION: &nbsp; &nbsp; Click here to see the invitation &nbsp; &nbsp;
URL:https://ecck.or.kr/events/ecck-busan-information-session-anti-graft-act/
END:VEVENT
END:VCALENDAR