BEGIN:VCALENDAR
VERSION:2.0
PRODID:-//eventon.com NONSGML v1.0//EN
BEGIN:VEVENT
UID:69ed13ea45bcb
DTSTAMP:20260426T042010
DTSTART:20170406T113000Z
DTEND:20170406T130000Z
LOCATION:Conrad Seoul 10 Gukjegeumyung-ro\,  Yeoeuido-dong\,  Yeongdeungpo-gu\,  Seoul
SUMMARY:ECCK Luncheon with Financial Supervisory Service (FSS)
DESCRIPTION: Kindly note this luncheon is fully booked. Click here to find the invitation. &nbsp; &nbsp;
URL:https://ecck.or.kr/events/ecck-luncheon-with-financial-supervisory-service-fss/
END:VEVENT
END:VCALENDAR