BEGIN:VCALENDAR
VERSION:2.0
PRODID:-//eventon.com NONSGML v1.0//EN
BEGIN:VEVENT
UID:69e8756c5513b
DTSTAMP:20260422T161452
DTSTART:20170726T190000Z
DTEND:20170726T220000Z
LOCATION:Seoul Museum of Art 서울시립미술관 서소문본관 61 Deoksugung-gil\,  Seosomun-dong\,  Jung-gu\,  Seoul
SUMMARY:ECCK Summer Network Night
DESCRIPTION: *Kindly be informed that the registration is now closed as we have reached our full capacity for the event. Thank you all for your interest. 20170726_ECCK Summer Network Night Click here to see the invitation.
URL:https://ecck.or.kr/events/ecck-summer-network-night-4/
END:VEVENT
END:VCALENDAR