BEGIN:VCALENDAR
VERSION:2.0
PRODID:-//eventon.com NONSGML v1.0//EN
BEGIN:VEVENT
UID:69eb8e1335167
DTSTAMP:20260425T003651
DTSTART:20180327T150000Z
DTEND:20180327T160000Z
LOCATION:Seoul Room(3F)\,  Seoul Square 416 Hangang-daero\,  Namdaemunno 5(o)-ga\,  Jung-gu\,  Seoul
SUMMARY:ECCK Logistics Industrial Seminar
DESCRIPTION: &nbsp;
URL:https://ecck.or.kr/events/ecck-logistics-industrial-seminar-w-mr-rodney-j-johnson-erudite-risk/
END:VEVENT
END:VCALENDAR