BEGIN:VCALENDAR
VERSION:2.0
PRODID:-//eventon.com NONSGML v1.0//EN
BEGIN:VEVENT
UID:69ed43c5caf70
DTSTAMP:20260426T074421
DTSTART:20180612T140000Z
DTEND:20180612T180000Z
LOCATION:Courtyard Seoul Namdaemun 9 Namdaemun-ro\,  Jung-gu\,  Seoul
SUMMARY:ECCK Seminar on BPR (Biocidal Products Regulation)
DESCRIPTION: ECCK Seminar on BPR (Biocidal Products Regulation)_June 12 &nbsp;
URL:https://ecck.or.kr/events/bpr-seminar/
END:VEVENT
END:VCALENDAR