BEGIN:VCALENDAR
VERSION:2.0
PRODID:-//eventon.com NONSGML v1.0//EN
BEGIN:VEVENT
UID:69e9abffb2ca3
DTSTAMP:20260423T141959
DTSTART:20181024T090000Z
DTEND:20181024T180000Z
LOCATION:KINTEX  408 Hallyuwoldeu-ro\,  Daehwa-dong\,  Ilsanseo-gu\,  Goyang-si\,  Gyeonggi-do
SUMMARY:[External] 2018 G-Fair Korea (Oct 24-27)
DESCRIPTION: G-Fair Korea 2018\,  the largest trade fair for small and medium-sized enterprises in Korea\,  will be held at KINTEX\,  Korea on October 24~27\,  2018. Since its inception in 1999\,  this year&#8217;s G-Fair Korea will expect approximately 85\, 000 visitors with more than 1\, 100 booths and buyers. To see the full brochure\, [..]
URL:https://ecck.or.kr/events/external-2018-g-fair-korea-oct-24-27/
END:VEVENT
END:VCALENDAR