BEGIN:VCALENDAR
VERSION:2.0
PRODID:-//eventon.com NONSGML v1.0//EN
BEGIN:VEVENT
UID:69eaa48626de2
DTSTAMP:20260424T080022
DTSTART:20181002T193000Z
DTEND:20181002T220000Z
LOCATION:
SUMMARY:[External] GREEN DRINKS SEOUL
DESCRIPTION: RSVP Link &nbsp; &nbsp;
URL:https://ecck.or.kr/events/external-green-drinks-seoul/
END:VEVENT
END:VCALENDAR