BEGIN:VCALENDAR
VERSION:2.0
PRODID:-//eventon.com NONSGML v1.0//EN
BEGIN:VEVENT
UID:69e5c04f87443
DTSTAMP:20260420T145735
DTSTART:20180828T150000Z
DTEND:20180828T170000Z
LOCATION:
SUMMARY:[Kitchen&Home Appliances Committee] Expert Group
DESCRIPTION: * Kindly note that this meeting is only open to the committee member of ECCK. * If you are interested in joining the committee\,  please contact Ms Hyokyung Suh (hyokyung.suh@ecck.or.kr\,  +82-(0)2-6261-2716) * To view the ECCK Committees Overview\,  please click here.
URL:https://ecck.or.kr/events/kitchenhome-appliances-committee-expert-group/
END:VEVENT
END:VCALENDAR