BEGIN:VCALENDAR
VERSION:2.0
PRODID:-//eventon.com NONSGML v1.0//EN
BEGIN:VEVENT
UID:69eb75e319985
DTSTAMP:20260424T225339
DTSTART:20181206T080000Z
DTEND:20181206T100000Z
LOCATION:Kyobo Tower 465 Main Street Gangnam\,  Seocho-gu\,  Seoul Metropolitan City
SUMMARY:ECCK Information Session on Financial Economic Outlook 2019
DESCRIPTION: ECCK Information Session_December 6 &nbsp; &nbsp;
URL:https://ecck.or.kr/events/ecck-information-session-on-financial-economic-outlook-2019/
END:VEVENT
END:VCALENDAR