BEGIN:VCALENDAR
VERSION:2.0
PRODID:-//eventon.com NONSGML v1.0//EN
BEGIN:VEVENT
UID:69eab5673294d
DTSTAMP:20260424T091223
DTSTART:20190416T080000Z
DTEND:20190416T100000Z
LOCATION:Peacock Suite (36F)\,  Lotte Hotel Seoul 30 Eulji-ro\,  Euljiro 1(il)-ga\,  Jung-gu\,  Seoul
SUMMARY:ECCK Taxation Seminar
DESCRIPTION: * RSVP Link is closed. If you have inquiry for the event\,  please contact Ms Hyewon Shim. (02-6261-2711\,  hyewon.shim@ecck.or.kr) &nbsp; &nbsp; Invitation_ECCK Taxation Seminar_April 16 &nbsp;
URL:https://ecck.or.kr/events/ecck-taxation-seminar-8/
END:VEVENT
END:VCALENDAR