BEGIN:VCALENDAR
VERSION:2.0
PRODID:-//eventon.com NONSGML v1.0//EN
BEGIN:VEVENT
UID:69e563ca544a5
DTSTAMP:20260420T082250
DTSTART:20190516T190000Z
DTEND:20190516T213000Z
LOCATION:Internal Garden (Yeong Bin Gwan)\,  The Shilla Seoul 249 Dongho-ro\,  Jangchung-dong\,  Jung-gu\,  Seoul
SUMMARY:All European Network Night 2019
DESCRIPTION: * Kindly be informed that the registration is now closed as we have reached our full capacity for the event. Thank you all for your interest.  Invitation_All European Network Night 2019_May 16 All European Network Night 2019_Partnership proposal &nbsp; &nbsp;
URL:https://ecck.or.kr/events/all-european-network-night-2019/
END:VEVENT
END:VCALENDAR