BEGIN:VCALENDAR
VERSION:2.0
PRODID:-//eventon.com NONSGML v1.0//EN
BEGIN:VEVENT
UID:69e556482b07c
DTSTAMP:20260420T072512
DTSTART:20190508T143000Z
DTEND:20190508T161000Z
LOCATION:Sapphire room (2F)\,  FKI Tower Conference Center 24 Yeoui-daero\,  Yeoeuido-dong\,  Yeongdeungpo-gu\,  Seoul
SUMMARY:ECCK-FKI HR Seminar
DESCRIPTION: &nbsp; Invitation_ECCK-FKI HR Seminar_May 8 &nbsp;
URL:https://ecck.or.kr/events/ecck-fki-hr-seminar/
END:VEVENT
END:VCALENDAR