BEGIN:VCALENDAR
VERSION:2.0
PRODID:-//eventon.com NONSGML v1.0//EN
BEGIN:VEVENT
UID:69ec0e96b6835
DTSTAMP:20260425T094510
DTSTART:20190515T180000Z
DTEND:20190515T210000Z
LOCATION:
SUMMARY:ECCK CFO FORUM
DESCRIPTION: * Kindly note that the event is only open to CFOs of ECCK member companies. * If you are interested in joining this forum\,  please contact Ms Siyoon Kim. (siyoon.kim@ecck.or.kr\,  +82-(0)2-6261-2703)
URL:https://ecck.or.kr/events/ecck-cfo-forum-8/
END:VEVENT
END:VCALENDAR