BEGIN:VCALENDAR
VERSION:2.0
PRODID:-//eventon.com NONSGML v1.0//EN
BEGIN:VEVENT
UID:69e58fdbd669e
DTSTAMP:20260420T113051
DTSTART:20190624T190000Z
DTEND:20190624T210000Z
LOCATION:Seoul Club 
SUMMARY:SKBC-ECCK event on Digitalization in Pharma
DESCRIPTION: Registration Link &nbsp; Organized by
URL:https://ecck.or.kr/events/skbc-ecck-event-on-digitalization-in-pharma/
END:VEVENT
END:VCALENDAR