BEGIN:VCALENDAR
VERSION:2.0
PRODID:-//eventon.com NONSGML v1.0//EN
BEGIN:VEVENT
UID:69ea6cb32eb26
DTSTAMP:20260424T040211
DTSTART:20191025T093000Z
DTEND:20191026T160000Z
LOCATION:Naksan Temple 100 Naksansa-ro\,  Ganghyeon-myeon\,  Yangyang\,  Gangwon-do
SUMMARY:[EXTERNAL] Templestay at Naksan Temple
DESCRIPTION: &nbsp; &nbsp; Templestay with Naksan Temple_Invitation_October 25-26 &nbsp; RSVP Link &nbsp;
URL:https://ecck.or.kr/events/external-templestay-at-naksan-temple/
END:VEVENT
END:VCALENDAR