BEGIN:VCALENDAR
VERSION:2.0
PRODID:-//eventon.com NONSGML v1.0//EN
BEGIN:VEVENT
UID:69e5e5a7a1ada
DTSTAMP:20260420T173655
DTSTART:20191017T090000Z
DTEND:20191017T103000Z
LOCATION:
SUMMARY:ECCK Busan Taxation Seminar
DESCRIPTION: &nbsp; &nbsp; ECCK Busan Taxation Seminar_Invitation_October 17 &nbsp;
URL:https://ecck.or.kr/events/ecck-busan-taxation-seminar/
END:VEVENT
END:VCALENDAR