BEGIN:VCALENDAR
VERSION:2.0
PRODID:-//eventon.com NONSGML v1.0//EN
BEGIN:VEVENT
UID:69e5fcdf20ec2
DTSTAMP:20260420T191559
DTSTART:20191008T080000Z
DTEND:20191008T100000Z
LOCATION:Carlton Suite (36F)\,  Lotte Hotel Seoul 30 Eulji-ro\,  Euljiro 1(il)-ga\,  Jung-gu\,  Seoul
SUMMARY:ECCK Information Session - The Future in 30 Minutes
DESCRIPTION: &nbsp; * Kindly be informed that the registration is now closed as we have reached our full capacity for the event. Thank you all for your interest.  &nbsp; If you have inquiry for the event\,  please contact Ms Hyewon Shim. (02-6261-2711\,  hyewon.shim@ecck.or.kr) &nbsp; Invitation_ECCK Information Session_October 8 &nbsp;
URL:https://ecck.or.kr/events/ecck-information-session-13/
END:VEVENT
END:VCALENDAR