BEGIN:VCALENDAR
VERSION:2.0
PRODID:-//eventon.com NONSGML v1.0//EN
BEGIN:VEVENT
UID:69eb3b223a36e
DTSTAMP:20260424T184258
DTSTART:20200117T093000Z
DTEND:20200117T113000Z
LOCATION:
SUMMARY:[Chemical Committee] 2020 Kick off meeting
DESCRIPTION: * Kindly note that this meeting is only open to the committee member of ECCK. * If you are interested in joining the committee\,  please contact Ms. Taeyang KIM (Taeyang.kim@ecck.or.kr or 02-6261-2718) * To view the ECCK Committees Overview\,  please click here.
URL:https://ecck.or.kr/events/chemical-committee-2020-kick-off-meeting/
END:VEVENT
END:VCALENDAR