BEGIN:VCALENDAR
VERSION:2.0
PRODID:-//eventon.com NONSGML v1.0//EN
BEGIN:VEVENT
UID:69eb6974a41d2
DTSTAMP:20260424T220036
DTSTART:20200213T163000Z
DTEND:20200213T180000Z
LOCATION:
SUMMARY:[Energy and Environment Working Group] 2020 Kick off meeting
DESCRIPTION: * Kindly note that this meeting is only open to the committee member of ECCK. * If you are interested in joining the committee\,  please contact Ms. Taeyang KIM (Taeyang.kim@ecck.or.kr or 02-6261-2718) * To view the ECCK Committees Overview\,  please click here.
URL:https://ecck.or.kr/events/energy-and-environment-working-group-2020-kick-off-meeting/
END:VEVENT
END:VCALENDAR