BEGIN:VCALENDAR
VERSION:2.0
PRODID:-//eventon.com NONSGML v1.0//EN
BEGIN:VEVENT
UID:69eaed7f78939
DTSTAMP:20260424T131143
DTSTART:20200912T210000Z
DTEND:20200912T230000Z
LOCATION:
SUMMARY:[EXTERNAL] Blues Connection
DESCRIPTION: Blues Connection_Invitation RSVP Link &nbsp; &nbsp; &nbsp; &nbsp;
URL:https://ecck.or.kr/events/external-blues-connection/
END:VEVENT
END:VCALENDAR