BEGIN:VCALENDAR
VERSION:2.0
PRODID:-//eventon.com NONSGML v1.0//EN
BEGIN:VEVENT
UID:69e8fc6234742
DTSTAMP:20260423T015042
DTSTART:20201022T140000Z
DTEND:20201022T150000Z
LOCATION:
SUMMARY:ECCK Live Webinar on effective digital communication
DESCRIPTION: RSVP Closed! ECCK Live Webinar on Effective Digital Communication_Invitation &nbsp;
URL:https://ecck.or.kr/events/ecck-live-webinar-on-effective-digital-communication/
END:VEVENT
END:VCALENDAR