BEGIN:VCALENDAR
VERSION:2.0
PRODID:-//eventon.com NONSGML v1.0//EN
BEGIN:VEVENT
UID:69ed92bda06c6
DTSTAMP:20260426T132117
DTSTART:20210204T210000Z
DTEND:20210204T220000Z
TZID:Pacific/Midway
LOCATION:
SUMMARY:ECCK Live Webinar on the Severe Accidents Penalties Act
DESCRIPTION: RSVP Closed! ECCK Live Webinar on the Severe Accidents Penalties Act_Invitation &nbsp; &nbsp; &nbsp; &nbsp; &nbsp;
URL:https://ecck.or.kr/events/ecck-live-webinar-on-the-severe-accidents-penalties-act/
END:VEVENT
END:VCALENDAR