BEGIN:VCALENDAR
VERSION:2.0
PRODID:-//eventon.com NONSGML v1.0//EN
BEGIN:VEVENT
UID:69e8bd5f1bd1a
DTSTAMP:20260422T212151
DTSTART:20210121T000000Z
DTEND:20210121T235900Z
LOCATION:
SUMMARY:Joint ECCK-EBOWWN Webinar on RCEP
DESCRIPTION: 
URL:https://ecck.or.kr/events/joint-ecck-ebowwn-webinar-on-rcep/
END:VEVENT
END:VCALENDAR