BEGIN:VCALENDAR
VERSION:2.0
PRODID:-//eventon.com NONSGML v1.0//EN
BEGIN:VEVENT
UID:69e5e48900a87
DTSTAMP:20260420T173209
DTSTART:20210307T150000Z
DTEND:20210308T145900Z
TZID:Asia/Seoul
LOCATION:
SUMMARY:ECCK Live Webinar on Female Empowerment
DESCRIPTION: On March 8\,  2021\,  the ECCK hosted Live Webinar on Female Empowerment on March 8\,  2021 to celebrate international women’s day. The webinar was presented by Kumjoo Huh (Executive Vice President of Kyobo Life Insurance)\,  Heekyung Min (Executive Vice President CJ CheilJedang)\,  Gilles Fromageot (President & Chief Executive Officer of[..]
URL:https://ecck.or.kr/events/ecck-live-webinar-on-female-empowerment/
END:VEVENT
END:VCALENDAR