BEGIN:VCALENDAR
VERSION:2.0
PRODID:-//eventon.com NONSGML v1.0//EN
BEGIN:VEVENT
UID:69ecb9df3eadf
DTSTAMP:20260425T215559
DTSTART:20220920T030000Z
DTEND:20220920T050000Z
TZID:Asia/Seoul
LOCATION:Garnet Suite (37F)\,  Lotte Hotel Seoul 30 Eulji-ro\,  Euljiro 1(il)-ga\,  Jung-gu\,  Seoul
SUMMARY:ECCK x KOTRA Business+ Forum on New Global Trend in Trade & Investment Environment
DESCRIPTION: RSVP Closed ECCK x KOTRA Business+ Forum on New Global Trend in Trade & Investment Environment_Invitation_September 20 &nbsp;
URL:https://ecck.or.kr/events/ecck-x-kotra-business-forum-with-former-trade-minister-yeo-han-koo/
END:VEVENT
END:VCALENDAR